Package: debrowser Version: 1.35.0 Command: /Library/Frameworks/R.framework/Resources/bin/R CMD build --keep-empty-dirs --no-resave-data debrowser StartedAt: 2025-02-09 16:28:54 -0500 (Sun, 09 Feb 2025) EndedAt: 2025-02-09 16:30:44 -0500 (Sun, 09 Feb 2025) EllapsedTime: 110.0 seconds RetCode: 0 Status: OK PackageFile: debrowser_1.35.0.tar.gz PackageFileSize: 18.22 MiB