Package: debrowser Version: 1.35.0 Command: /home/biocbuild/bbs-3.21-bioc/R/bin/R CMD build --keep-empty-dirs --no-resave-data debrowser StartedAt: 2025-02-09 16:54:38 -0500 (Sun, 09 Feb 2025) EndedAt: 2025-02-09 16:56:01 -0500 (Sun, 09 Feb 2025) EllapsedTime: 83.5 seconds RetCode: 0 Status: OK PackageFile: debrowser_1.35.0.tar.gz PackageFileSize: 18.22 MiB