Package: debrowser Version: 1.35.0 Command: /home/biocbuild/bbs-3.21-bioc/R/bin/R CMD check --install=check:debrowser.install-out.txt --library=/home/biocbuild/bbs-3.21-bioc/R/site-library --timings debrowser_1.35.0.tar.gz StartedAt: 2025-02-12 21:28:40 -0500 (Wed, 12 Feb 2025) EndedAt: 2025-02-12 21:35:36 -0500 (Wed, 12 Feb 2025) EllapsedTime: 416.5 seconds RetCode: 0 Status: OK CheckDir: debrowser.Rcheck Warnings: 0