Package: decontX Version: 1.5.0 Command: rm -rf decontX.buildbin-libdir && mkdir decontX.buildbin-libdir && /Users/biocbuild/BBS/utils/build-universal.sh decontX_1.5.0.tar.gz /Library/Frameworks/R.framework/Resources/bin/R decontX.buildbin-libdir StartedAt: 2025-02-05 00:36:15 -0500 (Wed, 05 Feb 2025) EndedAt: 2025-02-05 00:39:26 -0500 (Wed, 05 Feb 2025) EllapsedTime: 190.6 seconds RetCode: 0 Status: OK PackageFile: decontX_1.5.0.tgz PackageFileSize: 2.836 MiB