Package: decontX Version: 1.5.0 Command: /Library/Frameworks/R.framework/Resources/bin/R CMD check --install=check:decontX.install-out.txt --library=/Library/Frameworks/R.framework/Resources/library --no-vignettes --timings decontX_1.5.0.tar.gz StartedAt: 2025-02-04 19:58:37 -0500 (Tue, 04 Feb 2025) EndedAt: 2025-02-04 20:05:27 -0500 (Tue, 04 Feb 2025) EllapsedTime: 409.5 seconds RetCode: 0 Status: OK CheckDir: decontX.Rcheck Warnings: 0