Package: decontX Version: 1.5.0 Command: rm -rf decontX.buildbin-libdir && mkdir decontX.buildbin-libdir && E:\biocbuild\bbs-3.21-bioc\R\bin\R.exe CMD INSTALL --build --library=decontX.buildbin-libdir decontX_1.5.0.tar.gz StartedAt: 2025-02-05 07:46:52 -0500 (Wed, 05 Feb 2025) EndedAt: 2025-02-05 07:53:52 -0500 (Wed, 05 Feb 2025) EllapsedTime: 420.1 seconds RetCode: 0 Status: OK PackageFile: decontX_1.5.0.zip PackageFileSize: 1.932 MiB