Package: decontX Version: 1.5.0 Command: E:\biocbuild\bbs-3.21-bioc\R\bin\R.exe CMD INSTALL decontX StartedAt: 2025-02-04 16:48:33 -0500 (Tue, 04 Feb 2025) EndedAt: 2025-02-04 16:54:57 -0500 (Tue, 04 Feb 2025) EllapsedTime: 383.6 seconds RetCode: 0 Status: OK