Package: decoupleR Version: 2.13.0 Command: rm -rf decoupleR.buildbin-libdir && mkdir decoupleR.buildbin-libdir && /Users/biocbuild/BBS/utils/build-universal.sh decoupleR_2.13.0.tar.gz /Library/Frameworks/R.framework/Resources/bin/R decoupleR.buildbin-libdir StartedAt: 2025-02-09 22:11:42 -0500 (Sun, 09 Feb 2025) EndedAt: 2025-02-09 22:11:46 -0500 (Sun, 09 Feb 2025) EllapsedTime: 4.1 seconds RetCode: 0 Status: OK PackageFile: decoupleR_2.13.0.tgz PackageFileSize: 5.147 MiB