Package: decoupleR Version: 2.13.0 Command: /Library/Frameworks/R.framework/Resources/bin/R CMD check --install=check:decoupleR.install-out.txt --library=/Library/Frameworks/R.framework/Resources/library --no-vignettes --timings decoupleR_2.13.0.tar.gz StartedAt: 2025-02-09 18:52:13 -0500 (Sun, 09 Feb 2025) EndedAt: 2025-02-09 18:56:19 -0500 (Sun, 09 Feb 2025) EllapsedTime: 245.9 seconds RetCode: 1 Status: ERROR CheckDir: decoupleR.Rcheck Warnings: NA