Package: decoupleR Version: 2.13.0 Command: /Library/Frameworks/R.framework/Resources/bin/R CMD INSTALL decoupleR StartedAt: 2025-02-09 15:09:53 -0500 (Sun, 09 Feb 2025) EndedAt: 2025-02-09 15:09:58 -0500 (Sun, 09 Feb 2025) EllapsedTime: 4.8 seconds RetCode: 0 Status: OK