Package: decoupleR Version: 2.13.0 Command: /home/biocbuild/R/R/bin/R CMD build --keep-empty-dirs --no-resave-data decoupleR StartedAt: 2025-01-28 22:19:04 -0000 (Tue, 28 Jan 2025) EndedAt: 2025-01-28 22:22:34 -0000 (Tue, 28 Jan 2025) EllapsedTime: 210.1 seconds RetCode: 0 Status: OK PackageFile: decoupleR_2.13.0.tar.gz PackageFileSize: 4.615 MiB