Package: decoupleR Version: 2.13.0 Command: /home/biocbuild/R/R/bin/R CMD INSTALL decoupleR StartedAt: 2025-01-29 19:52:52 -0000 (Wed, 29 Jan 2025) EndedAt: 2025-01-29 19:53:02 -0000 (Wed, 29 Jan 2025) EllapsedTime: 10.7 seconds RetCode: 0 Status: OK