Package: decoupleR Version: 2.13.0 Command: rm -rf decoupleR.buildbin-libdir && mkdir decoupleR.buildbin-libdir && /Users/biocbuild/BBS/utils/build-universal.sh decoupleR_2.13.0.tar.gz /Library/Frameworks/R.framework/Resources/bin/R decoupleR.buildbin-libdir StartedAt: 2025-02-10 00:49:49 -0500 (Mon, 10 Feb 2025) EndedAt: 2025-02-10 00:50:04 -0500 (Mon, 10 Feb 2025) EllapsedTime: 15.1 seconds RetCode: 0 Status: OK PackageFile: decoupleR_2.13.0.tgz PackageFileSize: 5.146 MiB