Package: decoupleR Version: 2.13.0 Command: /Library/Frameworks/R.framework/Resources/bin/R CMD build --keep-empty-dirs --no-resave-data decoupleR StartedAt: 2025-02-09 16:29:12 -0500 (Sun, 09 Feb 2025) EndedAt: 2025-02-09 16:31:50 -0500 (Sun, 09 Feb 2025) EllapsedTime: 158.0 seconds RetCode: 0 Status: OK PackageFile: decoupleR_2.13.0.tar.gz PackageFileSize: 5.015 MiB