Package: decoupleR Version: 2.13.0 Command: /home/biocbuild/bbs-3.21-bioc/R/bin/R CMD check --install=check:decoupleR.install-out.txt --library=/home/biocbuild/bbs-3.21-bioc/R/site-library --timings decoupleR_2.13.0.tar.gz StartedAt: 2025-02-09 21:33:24 -0500 (Sun, 09 Feb 2025) EndedAt: 2025-02-09 21:42:53 -0500 (Sun, 09 Feb 2025) EllapsedTime: 568.8 seconds RetCode: 1 Status: ERROR CheckDir: decoupleR.Rcheck Warnings: NA