Package: decoupleR Version: 2.13.0 Command: /home/biocbuild/bbs-3.21-bioc/R/bin/R CMD INSTALL decoupleR StartedAt: 2025-02-09 15:09:50 -0500 (Sun, 09 Feb 2025) EndedAt: 2025-02-09 15:10:02 -0500 (Sun, 09 Feb 2025) EllapsedTime: 11.3 seconds RetCode: 0 Status: OK