Package: decoupleR Version: 2.13.0 Command: rm -rf decoupleR.buildbin-libdir && mkdir decoupleR.buildbin-libdir && E:\biocbuild\bbs-3.21-bioc\R\bin\R.exe CMD INSTALL --build --library=decoupleR.buildbin-libdir decoupleR_2.13.0.tar.gz StartedAt: 2025-02-10 07:35:33 -0500 (Mon, 10 Feb 2025) EndedAt: 2025-02-10 07:36:08 -0500 (Mon, 10 Feb 2025) EllapsedTime: 34.8 seconds RetCode: 0 Status: OK PackageFile: decoupleR_2.13.0.zip PackageFileSize: 3.841 MiB