Package: decoupleR Version: 2.13.0 Command: chmod a+r decoupleR -R && E:\biocbuild\bbs-3.21-bioc\R\bin\R.exe CMD build --keep-empty-dirs --no-resave-data decoupleR StartedAt: 2025-02-09 18:13:12 -0500 (Sun, 09 Feb 2025) EndedAt: 2025-02-09 18:16:51 -0500 (Sun, 09 Feb 2025) EllapsedTime: 218.9 seconds RetCode: 0 Status: OK PackageFile: decoupleR_2.13.0.tar.gz PackageFileSize: 3.692 MiB