Package: deltaCaptureC Version: 1.21.0 Command: rm -rf deltaCaptureC.buildbin-libdir && mkdir deltaCaptureC.buildbin-libdir && /Users/biocbuild/BBS/utils/build-universal.sh deltaCaptureC_1.21.0.tar.gz /Library/Frameworks/R.framework/Resources/bin/R deltaCaptureC.buildbin-libdir StartedAt: 2025-02-12 22:17:11 -0500 (Wed, 12 Feb 2025) EndedAt: 2025-02-12 22:17:25 -0500 (Wed, 12 Feb 2025) EllapsedTime: 14.3 seconds RetCode: 0 Status: OK PackageFile: deltaCaptureC_1.21.0.tgz PackageFileSize: 634.3 KiB