Package: deltaCaptureC Version: 1.21.0 Command: /home/biocbuild/R/R/bin/R CMD build --keep-empty-dirs --no-resave-data deltaCaptureC StartedAt: 2025-01-28 22:22:28 -0000 (Tue, 28 Jan 2025) EndedAt: 2025-01-28 22:25:25 -0000 (Tue, 28 Jan 2025) EllapsedTime: 176.1 seconds RetCode: 0 Status: OK PackageFile: deltaCaptureC_1.21.0.tar.gz PackageFileSize: 330.8 KiB