Package: deltaCaptureC Version: 1.21.0 Command: /home/biocbuild/bbs-3.21-bioc/R/bin/R CMD build --keep-empty-dirs --no-resave-data deltaCaptureC StartedAt: 2025-02-12 16:54:09 -0500 (Wed, 12 Feb 2025) EndedAt: 2025-02-12 16:56:11 -0500 (Wed, 12 Feb 2025) EllapsedTime: 122.1 seconds RetCode: 0 Status: OK PackageFile: deltaCaptureC_1.21.0.tar.gz PackageFileSize: 356.2 KiB