Package: deltaCaptureC Version: 1.21.0 Command: /home/biocbuild/bbs-3.21-bioc/R/bin/R CMD INSTALL deltaCaptureC StartedAt: 2025-02-09 15:29:46 -0500 (Sun, 09 Feb 2025) EndedAt: 2025-02-09 15:30:19 -0500 (Sun, 09 Feb 2025) EllapsedTime: 32.4 seconds RetCode: 0 Status: OK