Package: deltaCaptureC Version: 1.21.0 Command: rm -rf deltaCaptureC.buildbin-libdir && mkdir deltaCaptureC.buildbin-libdir && E:\biocbuild\bbs-3.21-bioc\R\bin\R.exe CMD INSTALL --build --library=deltaCaptureC.buildbin-libdir deltaCaptureC_1.21.0.tar.gz StartedAt: 2025-02-10 07:36:30 -0500 (Mon, 10 Feb 2025) EndedAt: 2025-02-10 07:37:41 -0500 (Mon, 10 Feb 2025) EllapsedTime: 71.6 seconds RetCode: 0 Status: OK PackageFile: deltaCaptureC_1.21.0.zip PackageFileSize: 597.9 KiB