Package: deltaCaptureC Version: 1.21.0 Command: chmod a+r deltaCaptureC -R && E:\biocbuild\bbs-3.21-bioc\R\bin\R.exe CMD build --keep-empty-dirs --no-resave-data deltaCaptureC StartedAt: 2025-02-12 18:20:10 -0500 (Wed, 12 Feb 2025) EndedAt: 2025-02-12 18:22:58 -0500 (Wed, 12 Feb 2025) EllapsedTime: 168.3 seconds RetCode: 0 Status: OK PackageFile: deltaCaptureC_1.21.0.tar.gz PackageFileSize: 326.7 KiB