Package: derfinder Version: 1.41.0 Command: /Library/Frameworks/R.framework/Resources/bin/R CMD build --keep-empty-dirs --no-resave-data derfinder StartedAt: 2025-02-09 16:07:16 -0500 (Sun, 09 Feb 2025) EndedAt: 2025-02-09 16:09:03 -0500 (Sun, 09 Feb 2025) EllapsedTime: 107.2 seconds RetCode: 0 Status: OK PackageFile: derfinder_1.41.0.tar.gz PackageFileSize: 2.011 MiB