Package: derfinder Version: 1.41.0 Command: rm -rf derfinder.buildbin-libdir && mkdir derfinder.buildbin-libdir && /Users/biocbuild/BBS/utils/build-universal.sh derfinder_1.41.0.tar.gz /Library/Frameworks/R.framework/Resources/bin/R derfinder.buildbin-libdir StartedAt: 2025-02-05 00:36:51 -0500 (Wed, 05 Feb 2025) EndedAt: 2025-02-05 00:37:53 -0500 (Wed, 05 Feb 2025) EllapsedTime: 62.5 seconds RetCode: 0 Status: OK PackageFile: derfinder_1.41.0.tgz PackageFileSize: 2.213 MiB