Package: derfinder Version: 1.41.0 Command: /Library/Frameworks/R.framework/Resources/bin/R CMD check --install=check:derfinder.install-out.txt --library=/Library/Frameworks/R.framework/Resources/library --no-vignettes --timings derfinder_1.41.0.tar.gz StartedAt: 2025-02-09 20:16:55 -0500 (Sun, 09 Feb 2025) EndedAt: 2025-02-09 20:28:52 -0500 (Sun, 09 Feb 2025) EllapsedTime: 717.4 seconds RetCode: 0 Status: OK CheckDir: derfinder.Rcheck Warnings: 0