Package: derfinder Version: 1.41.0 Command: /home/biocbuild/bbs-3.21-bioc/R/bin/R CMD check --install=check:derfinder.install-out.txt --library=/home/biocbuild/bbs-3.21-bioc/R/site-library --timings derfinder_1.41.0.tar.gz StartedAt: 2025-02-09 21:42:07 -0500 (Sun, 09 Feb 2025) EndedAt: 2025-02-09 21:53:34 -0500 (Sun, 09 Feb 2025) EllapsedTime: 686.8 seconds RetCode: 0 Status: OK CheckDir: derfinder.Rcheck Warnings: 0