Package: derfinder Version: 1.41.0 Command: /home/biocbuild/bbs-3.21-bioc/R/bin/R CMD INSTALL derfinder StartedAt: 2025-02-09 15:56:48 -0500 (Sun, 09 Feb 2025) EndedAt: 2025-02-09 15:57:34 -0500 (Sun, 09 Feb 2025) EllapsedTime: 45.4 seconds RetCode: 0 Status: OK