Package: derfinder Version: 1.41.0 Command: chmod a+r derfinder -R && E:\biocbuild\bbs-3.21-bioc\R\bin\R.exe CMD build --keep-empty-dirs --no-resave-data derfinder StartedAt: 2025-02-09 18:19:01 -0500 (Sun, 09 Feb 2025) EndedAt: 2025-02-09 18:26:11 -0500 (Sun, 09 Feb 2025) EllapsedTime: 430.1 seconds RetCode: 0 Status: OK PackageFile: derfinder_1.41.0.tar.gz PackageFileSize: 1.074 MiB