Package: derfinderHelper Version: 1.41.0 Command: /Library/Frameworks/R.framework/Resources/bin/R CMD check --install=check:derfinderHelper.install-out.txt --library=/Library/Frameworks/R.framework/Resources/library --no-vignettes --timings derfinderHelper_1.41.0.tar.gz StartedAt: 2025-02-03 19:33:11 -0500 (Mon, 03 Feb 2025) EndedAt: 2025-02-03 19:33:42 -0500 (Mon, 03 Feb 2025) EllapsedTime: 31.4 seconds RetCode: 0 Status: OK CheckDir: derfinderHelper.Rcheck Warnings: 0