Package: derfinderHelper Version: 1.41.0 Command: /home/biocbuild/R/R/bin/R CMD build --keep-empty-dirs --no-resave-data derfinderHelper StartedAt: 2025-01-28 22:25:37 -0000 (Tue, 28 Jan 2025) EndedAt: 2025-01-28 22:25:59 -0000 (Tue, 28 Jan 2025) EllapsedTime: 22.0 seconds RetCode: 0 Status: OK PackageFile: derfinderHelper_1.41.0.tar.gz PackageFileSize: 377 KiB