Package: derfinderHelper Version: 1.41.0 Command: rm -rf derfinderHelper.buildbin-libdir && mkdir derfinderHelper.buildbin-libdir && /Users/biocbuild/BBS/utils/build-universal.sh derfinderHelper_1.41.0.tar.gz /Library/Frameworks/R.framework/Resources/bin/R derfinderHelper.buildbin-libdir StartedAt: 2025-02-10 00:50:25 -0500 (Mon, 10 Feb 2025) EndedAt: 2025-02-10 00:50:39 -0500 (Mon, 10 Feb 2025) EllapsedTime: 14.9 seconds RetCode: 0 Status: OK PackageFile: derfinderHelper_1.41.0.tgz PackageFileSize: 322.8 KiB