Package: derfinderHelper Version: 1.41.0 Command: /Library/Frameworks/R.framework/Resources/bin/R CMD build --keep-empty-dirs --no-resave-data derfinderHelper StartedAt: 2025-02-03 16:33:57 -0500 (Mon, 03 Feb 2025) EndedAt: 2025-02-03 16:34:17 -0500 (Mon, 03 Feb 2025) EllapsedTime: 19.4 seconds RetCode: 0 Status: OK PackageFile: derfinderHelper_1.41.0.tar.gz PackageFileSize: 309.8 KiB