Package: derfinderHelper Version: 1.41.0 Command: /Library/Frameworks/R.framework/Resources/bin/R CMD check --install=check:derfinderHelper.install-out.txt --library=/Library/Frameworks/R.framework/Resources/library --no-vignettes --timings derfinderHelper_1.41.0.tar.gz StartedAt: 2025-02-09 20:17:09 -0500 (Sun, 09 Feb 2025) EndedAt: 2025-02-09 20:18:49 -0500 (Sun, 09 Feb 2025) EllapsedTime: 99.9 seconds RetCode: 0 Status: OK CheckDir: derfinderHelper.Rcheck Warnings: 0