Package: derfinderHelper Version: 1.41.0 Command: /home/biocbuild/bbs-3.21-bioc/R/bin/R CMD build --keep-empty-dirs --no-resave-data derfinderHelper StartedAt: 2025-02-03 17:07:53 -0500 (Mon, 03 Feb 2025) EndedAt: 2025-02-03 17:08:10 -0500 (Mon, 03 Feb 2025) EllapsedTime: 17.0 seconds RetCode: 0 Status: OK PackageFile: derfinderHelper_1.41.0.tar.gz PackageFileSize: 309.8 KiB