Package: derfinderHelper Version: 1.41.0 Command: /home/biocbuild/bbs-3.21-bioc/R/bin/R CMD check --install=check:derfinderHelper.install-out.txt --library=/home/biocbuild/bbs-3.21-bioc/R/site-library --timings derfinderHelper_1.41.0.tar.gz StartedAt: 2025-02-03 21:49:27 -0500 (Mon, 03 Feb 2025) EndedAt: 2025-02-03 21:50:54 -0500 (Mon, 03 Feb 2025) EllapsedTime: 87.1 seconds RetCode: 0 Status: OK CheckDir: derfinderHelper.Rcheck Warnings: 0