Package: derfinderHelper Version: 1.41.0 Command: rm -rf derfinderHelper.buildbin-libdir && mkdir derfinderHelper.buildbin-libdir && E:\biocbuild\bbs-3.21-bioc\R\bin\R.exe CMD INSTALL --build --library=derfinderHelper.buildbin-libdir derfinderHelper_1.41.0.tar.gz StartedAt: 2025-02-10 07:37:11 -0500 (Mon, 10 Feb 2025) EndedAt: 2025-02-10 07:37:28 -0500 (Mon, 10 Feb 2025) EllapsedTime: 17.4 seconds RetCode: 0 Status: OK PackageFile: derfinderHelper_1.41.0.zip PackageFileSize: 328.6 KiB