Package: derfinderHelper Version: 1.41.0 Command: E:\biocbuild\bbs-3.21-bioc\R\bin\R.exe CMD INSTALL derfinderHelper StartedAt: 2025-02-09 15:30:03 -0500 (Sun, 09 Feb 2025) EndedAt: 2025-02-09 15:30:22 -0500 (Sun, 09 Feb 2025) EllapsedTime: 19.0 seconds RetCode: 0 Status: OK