Package: destiny Version: 3.21.0 Command: /Library/Frameworks/R.framework/Resources/bin/R CMD build --keep-empty-dirs --no-resave-data destiny StartedAt: 2025-02-12 16:30:38 -0500 (Wed, 12 Feb 2025) EndedAt: 2025-02-12 16:39:02 -0500 (Wed, 12 Feb 2025) EllapsedTime: 504.0 seconds RetCode: 0 Status: OK PackageFile: destiny_3.21.0.tar.gz PackageFileSize: 1020 KiB