Package: destiny Version: 3.21.0 Command: /Library/Frameworks/R.framework/Resources/bin/R CMD check --install=check:destiny.install-out.txt --library=/Library/Frameworks/R.framework/Resources/library --no-vignettes --timings destiny_3.21.0.tar.gz StartedAt: 2025-02-09 20:17:42 -0500 (Sun, 09 Feb 2025) EndedAt: 2025-02-09 20:22:42 -0500 (Sun, 09 Feb 2025) EllapsedTime: 300.2 seconds RetCode: 0 Status: OK CheckDir: destiny.Rcheck Warnings: 0