Package: destiny Version: 3.21.0 Command: /home/biocbuild/bbs-3.21-bioc/R/bin/R CMD check --install=check:destiny.install-out.txt --library=/home/biocbuild/bbs-3.21-bioc/R/site-library --timings destiny_3.21.0.tar.gz StartedAt: 2025-02-09 21:44:28 -0500 (Sun, 09 Feb 2025) EndedAt: 2025-02-09 21:55:11 -0500 (Sun, 09 Feb 2025) EllapsedTime: 642.8 seconds RetCode: 0 Status: OK CheckDir: destiny.Rcheck Warnings: 0