Package: destiny Version: 3.21.0 Command: /home/biocbuild/bbs-3.21-bioc/R/bin/R CMD INSTALL destiny StartedAt: 2025-02-09 15:20:21 -0500 (Sun, 09 Feb 2025) EndedAt: 2025-02-09 15:21:09 -0500 (Sun, 09 Feb 2025) EllapsedTime: 48.4 seconds RetCode: 0 Status: OK