Package: destiny Version: 3.21.0 Command: rm -rf destiny.buildbin-libdir && mkdir destiny.buildbin-libdir && E:\biocbuild\bbs-3.21-bioc\R\bin\R.exe CMD INSTALL --build --library=destiny.buildbin-libdir destiny_3.21.0.tar.gz StartedAt: 2025-02-10 07:37:22 -0500 (Mon, 10 Feb 2025) EndedAt: 2025-02-10 07:39:02 -0500 (Mon, 10 Feb 2025) EllapsedTime: 99.3 seconds RetCode: 0 Status: OK PackageFile: destiny_3.21.0.zip PackageFileSize: 1.756 MiB