Package: destiny Version: 3.21.0 Command: E:\biocbuild\bbs-3.21-bioc\R\bin\R.exe CMD check --no-multiarch --install=check:destiny.install-out.txt --library=E:\biocbuild\bbs-3.21-bioc\R\library --no-vignettes --timings destiny_3.21.0.tar.gz StartedAt: 2025-02-13 00:37:13 -0500 (Thu, 13 Feb 2025) EndedAt: 2025-02-13 00:42:14 -0500 (Thu, 13 Feb 2025) EllapsedTime: 301.3 seconds RetCode: 0 Status: OK CheckDir: destiny.Rcheck Warnings: 0