Package: diffGeneAnalysis Version: 1.89.0 Command: /Library/Frameworks/R.framework/Resources/bin/R CMD INSTALL diffGeneAnalysis StartedAt: 2025-02-10 15:05:17 -0500 (Mon, 10 Feb 2025) EndedAt: 2025-02-10 15:05:39 -0500 (Mon, 10 Feb 2025) EllapsedTime: 22.4 seconds RetCode: 0 Status: OK