Package: diffGeneAnalysis Version: 1.89.0 Command: /home/biocbuild/bbs-3.21-bioc/R/bin/R CMD INSTALL diffGeneAnalysis StartedAt: 2025-02-10 15:13:32 -0500 (Mon, 10 Feb 2025) EndedAt: 2025-02-10 15:13:41 -0500 (Mon, 10 Feb 2025) EllapsedTime: 9.3 seconds RetCode: 0 Status: OK