Package: diffGeneAnalysis Version: 1.89.0 Command: rm -rf diffGeneAnalysis.buildbin-libdir && mkdir diffGeneAnalysis.buildbin-libdir && E:\biocbuild\bbs-3.21-bioc\R\bin\R.exe CMD INSTALL --build --library=diffGeneAnalysis.buildbin-libdir diffGeneAnalysis_1.89.0.tar.gz StartedAt: 2025-02-11 07:50:27 -0500 (Tue, 11 Feb 2025) EndedAt: 2025-02-11 07:50:34 -0500 (Tue, 11 Feb 2025) EllapsedTime: 6.2 seconds RetCode: 0 Status: OK PackageFile: diffGeneAnalysis_1.89.0.zip PackageFileSize: 196.8 KiB