Package: diffGeneAnalysis Version: 1.89.0 Command: chmod a+r diffGeneAnalysis -R && E:\biocbuild\bbs-3.21-bioc\R\bin\R.exe CMD build --keep-empty-dirs --no-resave-data diffGeneAnalysis StartedAt: 2025-02-10 18:32:09 -0500 (Mon, 10 Feb 2025) EndedAt: 2025-02-10 18:32:20 -0500 (Mon, 10 Feb 2025) EllapsedTime: 10.1 seconds RetCode: 0 Status: OK PackageFile: diffGeneAnalysis_1.89.0.tar.gz PackageFileSize: 156.5 KiB