Package: diffHic Version: 1.39.1 Command: /Library/Frameworks/R.framework/Resources/bin/R CMD check --install=check:diffHic.install-out.txt --library=/Library/Frameworks/R.framework/Resources/library --no-vignettes --timings diffHic_1.39.1.tar.gz StartedAt: 2025-02-09 18:58:17 -0500 (Sun, 09 Feb 2025) EndedAt: 2025-02-09 19:00:32 -0500 (Sun, 09 Feb 2025) EllapsedTime: 135.7 seconds RetCode: 0 Status: OK CheckDir: diffHic.Rcheck Warnings: 0